OziExplorer Map Data File Version 2.2
трапеция юK-53
_NoteBlank.ozf2
1 ,Map Code,
Pulkovo 1942 (2),, 0.0000, 0.0000,WGS 84
Reserved 1
Reserved 2
Magnetic Variation,,,E
Map Projection,Latitude/Longitude,PolyCal,No,AutoCalOnly,No,BSBUseWPX,No
Point01,xy, 15, 16,in, deg, -40, 0,S, 132, 0,E, grid, , , ,S
Point02,xy, 751, 16,in, deg, -40, 0,S, 138, 0,E, grid, , , ,S
Point03,xy, 15, 751,in, deg, -44, 0,S, 132, 0,E, grid, , , ,S
Point04,xy, 751, 751,in, deg, -44, 0,S, 138, 0,E, grid, , , ,S
Point05,xy, , ,in, deg, , ,S, , ,E, grid, , , ,S
Point06,xy, , ,in, deg, , ,S, , ,E, grid, , , ,S
Point07,xy, , ,in, deg, , ,S, , ,E, grid, , , ,S
Point08,xy, , ,in, deg, , ,S, , ,E, grid, , , ,S
Point09,xy, , ,in, deg, , ,S, , ,E, grid, , , ,S
Point10,xy, , ,in, deg, , ,S, , ,E, grid, , , ,S
Point11,xy, , ,in, deg, , ,S, , ,E, grid, , , ,S
Point12,xy, , ,in, deg, , ,S, , ,E, grid, , , ,S
Point13,xy, , ,in, deg, , ,S, , ,E, grid, , , ,S
Point14,xy, , ,in, deg, , ,S, , ,E, grid, , , ,S
Point15,xy, , ,in, deg, , ,S, , ,E, grid, , , ,S
Point16,xy, , ,in, deg, , ,S, , ,E, grid, , , ,S
Point17,xy, , ,in, deg, , ,S, , ,E, grid, , , ,S
Point18,xy, , ,in, deg, , ,S, , ,E, grid, , , ,S
Point19,xy, , ,in, deg, , ,S, , ,E, grid, , , ,S
Point20,xy, , ,in, deg, , ,S, , ,E, grid, , , ,S
Point21,xy, , ,in, deg, , ,S, , ,E, grid, , , ,S
Point22,xy, , ,in, deg, , ,S, , ,E, grid, , , ,S
Point23,xy, , ,in, deg, , ,S, , ,E, grid, , , ,S
Point24,xy, , ,in, deg, , ,S, , ,E, grid, , , ,S
Point25,xy, , ,in, deg, , ,S, , ,E, grid, , , ,S
Point26,xy, , ,in, deg, , ,S, , ,E, grid, , , ,S
Point27,xy, , ,in, deg, , ,S, , ,E, grid, , , ,S
Point28,xy, , ,in, deg, , ,S, , ,E, grid, , , ,S
Point29,xy, , ,in, deg, , ,S, , ,E, grid, , , ,S
Point30,xy, , ,in, deg, , ,S, , ,E, grid, , , ,S
Projection Setup,,,,,,,,,,
Map Feature = MF ; Map Comment = MC These follow if they exist MC, 1, -39.918367, 132.000000, 0, 0, 13158342,400,16,8,1 юK-53 ::: Lat/Lon, CK-1942 ::: http://realbiker.ru
Track File = TF These follow if they exist
Moving Map Parameters = MM? These follow if they exist
MM0,No
MMPNUM,4
MMPXY,1,14,15
MMPXY,2,752,15
MMPXY,3,752,752
MMPXY,4,14,752
MMPLL,1, 131.991848, -39.994558
MMPLL,2, 138.008152, -39.994558
MMPLL,3, 138.008152, -44.005442
MMPLL,4, 131.991848, -44.005442
MM1B,675.136013
MOP,Map Open Position,0,0
IWH,Map Image Width/Height,768,768
