OziExplorer Map Data File Version 2.2
трапеция юA-09
_NoteBlank.ozf2
1 ,Map Code,
Pulkovo 1942 (2),, 0.0000, 0.0000,WGS 84
Reserved 1
Reserved 2
Magnetic Variation,,,W
Map Projection,Latitude/Longitude,PolyCal,No,AutoCalOnly,No,BSBUseWPX,No
Point01,xy, 15, 16,in, deg, 0, 0,S,-132, 0,W, grid, , , ,S
Point02,xy, 751, 16,in, deg, 0, 0,S,-126, 0,W, grid, , , ,S
Point03,xy, 15, 751,in, deg, -4, 0,S,-132, 0,W, grid, , , ,S
Point04,xy, 751, 751,in, deg, -4, 0,S,-126, 0,W, grid, , , ,S
Point05,xy, , ,in, deg, , ,S, , ,W, grid, , , ,S
Point06,xy, , ,in, deg, , ,S, , ,W, grid, , , ,S
Point07,xy, , ,in, deg, , ,S, , ,W, grid, , , ,S
Point08,xy, , ,in, deg, , ,S, , ,W, grid, , , ,S
Point09,xy, , ,in, deg, , ,S, , ,W, grid, , , ,S
Point10,xy, , ,in, deg, , ,S, , ,W, grid, , , ,S
Point11,xy, , ,in, deg, , ,S, , ,W, grid, , , ,S
Point12,xy, , ,in, deg, , ,S, , ,W, grid, , , ,S
Point13,xy, , ,in, deg, , ,S, , ,W, grid, , , ,S
Point14,xy, , ,in, deg, , ,S, , ,W, grid, , , ,S
Point15,xy, , ,in, deg, , ,S, , ,W, grid, , , ,S
Point16,xy, , ,in, deg, , ,S, , ,W, grid, , , ,S
Point17,xy, , ,in, deg, , ,S, , ,W, grid, , , ,S
Point18,xy, , ,in, deg, , ,S, , ,W, grid, , , ,S
Point19,xy, , ,in, deg, , ,S, , ,W, grid, , , ,S
Point20,xy, , ,in, deg, , ,S, , ,W, grid, , , ,S
Point21,xy, , ,in, deg, , ,S, , ,W, grid, , , ,S
Point22,xy, , ,in, deg, , ,S, , ,W, grid, , , ,S
Point23,xy, , ,in, deg, , ,S, , ,W, grid, , , ,S
Point24,xy, , ,in, deg, , ,S, , ,W, grid, , , ,S
Point25,xy, , ,in, deg, , ,S, , ,W, grid, , , ,S
Point26,xy, , ,in, deg, , ,S, , ,W, grid, , , ,S
Point27,xy, , ,in, deg, , ,S, , ,W, grid, , , ,S
Point28,xy, , ,in, deg, , ,S, , ,W, grid, , , ,S
Point29,xy, , ,in, deg, , ,S, , ,W, grid, , , ,S
Point30,xy, , ,in, deg, , ,S, , ,W, grid, , , ,S
Projection Setup,,,,,,,,,,
Map Feature = MF ; Map Comment = MC These follow if they exist MC, 1, 0.081633,-132.000000, 0, 0, 13158342,400,16,8,1 юA-09 ::: Lat/Lon, CK-1942 ::: http://realbiker.ru
Track File = TF These follow if they exist
Moving Map Parameters = MM? These follow if they exist
MM0,No
MMPNUM,4
MMPXY,1,14,15
MMPXY,2,752,15
MMPXY,3,752,752
MMPXY,4,14,752
MMPLL,1,-132.008152, 0.005442
MMPLL,2,-125.991848, 0.005442
MMPLL,3,-125.991848, -4.005442
MMPLL,4,-132.008152, -4.005442
MM1B,906.722559
MOP,Map Open Position,0,0
IWH,Map Image Width/Height,768,768
